BEGIN:VCALENDAR
VERSION:2.0
PRODID:-//Education For All Communities - ECPv6.15.20//NONSGML v1.0//EN
CALSCALE:GREGORIAN
METHOD:PUBLISH
X-WR-CALNAME:Education For All Communities
X-ORIGINAL-URL:https://edu4a.org
X-WR-CALDESC:Events for Education For All Communities
REFRESH-INTERVAL;VALUE=DURATION:PT1H
X-Robots-Tag:noindex
X-PUBLISHED-TTL:PT1H
BEGIN:VTIMEZONE
TZID:UTC
BEGIN:STANDARD
TZOFFSETFROM:+0000
TZOFFSETTO:+0000
TZNAME:UTC
DTSTART:20220101T000000
END:STANDARD
END:VTIMEZONE
BEGIN:VEVENT
DTSTART;TZID=UTC:20240811T110000
DTEND;TZID=UTC:20240811T180000
DTSTAMP:20260425T150640
CREATED:20231130T054330Z
LAST-MODIFIED:20231201T174920Z
UID:3644-1723374000-1723399200@edu4a.org
SUMMARY:African Day Parade
DESCRIPTION:
URL:https://edu4a.org/event/african-day-parade/
ORGANIZER;CN="Education For All Communities Inc":MAILTO:africanparade@edu4a.org
END:VEVENT
BEGIN:VEVENT
DTSTART;VALUE=DATE:20240608
DTEND;VALUE=DATE:20240614
DTSTAMP:20260425T150640
CREATED:20240418T232402Z
LAST-MODIFIED:20240418T232639Z
UID:3904-1717804800-1718323199@edu4a.org
SUMMARY:Business Fair of the Diaspora
DESCRIPTION:
URL:https://edu4a.org/event/business-fair-of-the-diaspora/
END:VEVENT
BEGIN:VEVENT
DTSTART;VALUE=DATE:20240525
DTEND;VALUE=DATE:20240527
DTSTAMP:20260425T150640
CREATED:20231122T002326Z
LAST-MODIFIED:20240414T203105Z
UID:3627-1716595200-1716767999@edu4a.org
SUMMARY:Edu4a Startup & Hi-Tech Workshop
DESCRIPTION:The 2024 EDU4A Startup and Hi-Tech Loft Workshop Event is a workshop designed to provide valuable knowledge and insights on “IGNITE\, AND BRING YOUR STARTUP INTO SUCCESS”. Whether you’re a beginner or an experienced professional in the field\, this seminar will offer valuable information and practical tips to help you excel.
URL:https://edu4a.org/event/edu4a-startup-hi-tech-workshop/
END:VEVENT
BEGIN:VEVENT
DTSTART;TZID=UTC:20240511T170000
DTEND;TZID=UTC:20240511T180000
DTSTAMP:20260425T150640
CREATED:20240413T024124Z
LAST-MODIFIED:20240414T200259Z
UID:3886-1715446800-1715450400@edu4a.org
SUMMARY:Open Event with Dr. Zach Pouga
DESCRIPTION:  \nAs an International Tax Principal\, Zach regularly advises multinational companies on the tax aspects of inbound and outbound US cross-border transactions. Zach was recognized in the 40 Under 40 list by both the American Bar Association and the National Bar Association. He holds a doctorate (SJD) in International Tax Policy the University of Michigan\, an International Tax LLM from Michigan Law School\, from an LLM in Corporate and Finance Law from Wayne State University\, and an LLB and Master of Laws from the University of Douala. \nOn Saturday\, Dr. Zach will share insights into his illustrious career\, showcasing his expertise and leadership in the field. His journey from a senior position in a highly respected law firm to a successful lawyer\, despite originating from a French-speaking region as an immigrant\, serves as an inspiring narrative. Attendees can expect to learn about the fundamental pedagogical approach to tax policy\, its benefits\, career opportunities\, training\, and requirements. Dr. Zach’s presentation promises to be enlightening\, and informative for aspiring tax professionals and seasoned practitioners alike.
URL:https://edu4a.org/event/open-event-zach-pouga/
LOCATION:175 Pearl Street\, Brooklyn NY 11201\, 175 Pearl Street\, Brooklyn\, NY\, 11201\, United States
END:VEVENT
BEGIN:VEVENT
DTSTART;TZID=UTC:20240427T110000
DTEND;TZID=UTC:20240427T120000
DTSTAMP:20260425T150640
CREATED:20240413T011952Z
LAST-MODIFIED:20240413T011952Z
UID:3881-1714215600-1714219200@edu4a.org
SUMMARY:Open Event with P.O. Gelin Natanya - NYPD
DESCRIPTION:  \n  \nOfficer Gelin is the NYPD 9PCT Auxiliary Coordinator and Former Police Officer at Recruit Section She started the service in April 2016. On Saturday\, Officer Gelin will discuss her career experience within the largest police department in the world. Additionally\, she will share her knowledge and insights regarding the philosophy of policing and crime prevention strategies. Attendees can expect to gain valuable insights into law enforcement practices and the role of officers in ensuring community safety. The event will take place at 175 Pearl Street\, Brooklyn NY 11201 (Hybrid).
URL:https://edu4a.org/event/open-event-with-gelin-natanya/
LOCATION:175 Pearl Street\, Brooklyn NY 11201\, 175 Pearl Street\, Brooklyn\, NY\, 11201\, United States
END:VEVENT
BEGIN:VEVENT
DTSTART;TZID=UTC:20240420T150000
DTEND;TZID=UTC:20240420T170000
DTSTAMP:20260425T150640
CREATED:20240413T010917Z
LAST-MODIFIED:20240413T011347Z
UID:3873-1713625200-1713632400@edu4a.org
SUMMARY:Free Open Event Pascaline Jague - Financial Professional
DESCRIPTION:  \nPassy is a Financial Professional\, and Woman Leader. Her expertise in this area\, particularly concerning financial education\, including life insurance\, annuities\, and strategies for building a secure financial future. On saturday\, Passy will discuss her life experience as an immigrant and women leader. Additionally\, she will share her knowledge and insights regarding the financial education to empower our community members to make informed decisions about thier finances\, and plan for thier long-term goals. The event will take place at 175 Pearl Street\, Brooklyn NY 11201 (Hybrid).
URL:https://edu4a.org/event/free-open-event-pascaline-jague-financial-professional/
END:VEVENT
BEGIN:VEVENT
DTSTART;TZID=UTC:20240420T150000
DTEND;TZID=UTC:20240420T160000
DTSTAMP:20260425T150640
CREATED:20240415T153743Z
LAST-MODIFIED:20240415T153902Z
UID:3896-1713625200-1713628800@edu4a.org
SUMMARY:Free Open Even with Yves Dikoume
DESCRIPTION:  \n  \nIntroducing Yves Dikoume\, an esteemed real estate broker with over a decade of distinguished experience that sets him apart in the industry. With a unique background in the hospitality industry\, tech sales\, and wealth management. During the event\, Yves will happily discuss our real estate aspirations\, and guide us through the process with with confidence and ease. Yve will also guide you through the home-buying process\, mortgages\, taxes\, and more.
URL:https://edu4a.org/event/free-open-even-with-yves-dikoume/
LOCATION:175 Pearl Street\, Brooklyn NY 11201\, 175 Pearl Street\, Brooklyn\, NY\, 11201\, United States
ORGANIZER;CN="Education For All Communities Inc.":MAILTO:contact@edu4a.org
END:VEVENT
BEGIN:VEVENT
DTSTART;TZID=UTC:20240415T080000
DTEND;TZID=UTC:20240415T170000
DTSTAMP:20260425T150640
CREATED:20240415T165244Z
LAST-MODIFIED:20240415T165244Z
UID:3901-1713168000-1713200400@edu4a.org
SUMMARY:Free English Class For Beginners
DESCRIPTION:  \n  \nJoin us on Saturday\, April 20\, 2024\, as Dr. Nchare introduces our English for Beginners course. This intensive English program aims to tackle language barriers and immerse participants in a comprehensive 3-month program. Dr. Nchare will provide introductory course materials during the session.
URL:https://edu4a.org/event/free-english-class-for-beginners/
END:VEVENT
BEGIN:VEVENT
DTSTART;TZID=UTC:20230826T090000
DTEND;TZID=UTC:20230826T210000
DTSTAMP:20260425T150640
CREATED:20230812T182838Z
LAST-MODIFIED:20230812T182838Z
UID:3395-1693040400-1693083600@edu4a.org
SUMMARY:THE 5TH EDITION OF GRAND DASANDAGA
DESCRIPTION:
URL:https://edu4a.org/event/the-5th-edition-of-grand-dasandaga/
ORGANIZER;CN="ASSOCIATION DES FEMMES BATTANTES":MAILTO:Liliouannemarie@gmail.com
END:VEVENT
BEGIN:VEVENT
DTSTART;TZID=UTC:20230825T120000
DTEND;TZID=UTC:20230825T150000
DTSTAMP:20260425T150640
CREATED:20230812T201643Z
LAST-MODIFIED:20230812T201643Z
UID:3423-1692964800-1692975600@edu4a.org
SUMMARY:New York Tech Career Fair: Exclusive Tech Hiring Event
DESCRIPTION:Tech Career Fair\nWe will be hosting a virtual Tech Career Fair with our hiring partners from fast growing startups and Fortune 500 companies in technology.  There will be a focus on helping companies achieve their diversity and inclusivity initiative with more diverse candidates to their talent pool. Available roles that our hiring companies are looking to fill are of the following: \n\nSoftware Engineering\nProduct Management\nData Scientist\nAI/Machine Learning Engineer\nData Analyst\nUI/UX Design\nMarketing\nSales\n\nTo make sure your profile is visible and accessible to hiring partners and companies in their system please make sure you complete your profile and upload your resume to the platform.
URL:https://edu4a.org/event/new-york-tech-career-fair-exclusive-tech-hiring-event/
LOCATION:Virtual Event Online New York\, NY
END:VEVENT
END:VCALENDAR